BEGIN:VCALENDAR
VERSION:2.0
PRODID:-//Plone.org//NONSGML plone.app.event//EN
X-WR-TIMEZONE:Brazil/East
BEGIN:VEVENT
SUMMARY:4ª Sessão Ordinária da Câmara Municipal de Taguaí
DTSTART;TZID=Brazil/East;VALUE=DATE-TIME:20260317T200000
DTEND;TZID=Brazil/East;VALUE=DATE-TIME:20260317T220000
DTSTAMP;VALUE=DATE-TIME:20260424T011608Z
UID:42529ba60d0742ddbca652334afc36f5@www.taguai.sp.leg.br
CREATED;VALUE=DATE-TIME:20260309T135139Z
DESCRIPTION:4ª Sessão Ordinária da Câmara Municipal de Taguaí
LAST-MODIFIED;VALUE=DATE-TIME:20260309T135141Z
LOCATION:Câmara Municipal de Taguaí
URL:https://www.taguai.sp.leg.br/institucional/eventos/4a-sessao-ordinaria
 -da-camara-municipal-de-taguai-1
END:VEVENT
BEGIN:VTIMEZONE
TZID:Brazil/East
X-LIC-LOCATION:Brazil/East
BEGIN:STANDARD
DTSTART;VALUE=DATE-TIME:20260221T230000
TZNAME:BRT
TZOFFSETFROM:-0200
TZOFFSETTO:-0300
END:STANDARD
END:VTIMEZONE
END:VCALENDAR
